BEGIN:VCALENDAR
VERSION:2.0
PRODID:Events Booking
BEGIN:VEVENT
UID:69eb9364880ce
SUMMARY:2025-2026 Member Dues: Base Adult
DESCRIPTION:Base Adult&nbsp\;club membership dues for 2025-2026 curling sea
 son 
 
 Access to league registrations and participation
 Access to pra
 ctice ice times when available
 Access to all PTCC club functions and mem
 ber events
 PTCC pin and name-tag
 
 ** Annual club membership dues are
  required for participation in league play **
 $65
 Please Sign In to Re
 gister.&nbsp\;
 (if you don't have an account with us\, you can create on
 e here: Sign Up for PTCC)
LOCATION:225 Park Ave.\, Portland\, Maine\, USA
DTSTART:20250601T040000Z
DTEND:20260531T040000Z
DTSTAMP:20250807T195350Z
ORGANIZER;CN=Pine Tree Curling Club:MAILTO:do-not-reply@pinetreecurlingclub
 .com
GEO:43.6565;-70.27626
X-APPLE-STRUCTURED-LOCATION;VALUE=URI;X-ADDRESS=225 Park Ave.\, Portland\, 
 Maine\, USA;X-APPLE-RADIUS=72;X-TITLE=Troubh Ice Arena:43.6565;-70.27626
END:VEVENT
END:VCALENDAR