BEGIN:VCALENDAR
VERSION:2.0
PRODID:Events Booking
BEGIN:VEVENT
UID:69eb7c170b585
SUMMARY:2025-2026 Member Dues: Pine Tree Enthusiast
DESCRIPTION:Pine Tree Enthusiast&nbsp\;club membership dues for 2025-2026 c
 urling season
 All benefits of Base Adult\, plus:
 
 Priority registrat
 ion for leagues (3) days in advance of open registration
 One free practi
 ce ice session and 50% off additional practice ice sessions
 
 ** Annual
  club membership dues are required for participation in league play **
 $
 90
 Please Sign In to Register.&nbsp\;
 (if you don't have an account wi
 th us\, you can create one here: Sign Up for PTCC)
LOCATION:225 Park Ave.\, Portland\, Maine\, USA
DTSTART:20250601T040000Z
DTEND:20260531T040000Z
DTSTAMP:20250807T195350Z
ORGANIZER;CN=Pine Tree Curling Club:MAILTO:do-not-reply@pinetreecurlingclub
 .com
GEO:43.6565;-70.27626
X-APPLE-STRUCTURED-LOCATION;VALUE=URI;X-ADDRESS=225 Park Ave.\, Portland\, 
 Maine\, USA;X-APPLE-RADIUS=72;X-TITLE=Troubh Ice Arena:43.6565;-70.27626
END:VEVENT
END:VCALENDAR