BEGIN:VCALENDAR
VERSION:2.0
PRODID:Events Booking
BEGIN:VEVENT
UID:69eb940c9c463
SUMMARY:2025-2026 Member Dues: Student
DESCRIPTION:Base Student&nbsp\;club membership dues for 2025-2026 curling s
 eason for curlers attending an educational institution&nbsp\;who are under
  21 years old
 
 Access to league registrations and participation
 Acce
 ss to practice ice times when available
 Access to all PTCC club function
 s and member events
 PTCC pin and name-tag
 
 ** Annual club membership
  dues are required for participation in league play **
 $35
 Please Sign
  In to Register.&nbsp\;
 (if you don't have an account with us\, you can 
 create one here: Sign Up for PTCC)
LOCATION:225 Park Ave.\, Portland\, Maine\, USA
DTSTART:20250601T040000Z
DTEND:20260531T040000Z
DTSTAMP:20250807T195350Z
ORGANIZER;CN=Pine Tree Curling Club:MAILTO:do-not-reply@pinetreecurlingclub
 .com
GEO:43.6565;-70.27626
X-APPLE-STRUCTURED-LOCATION;VALUE=URI;X-ADDRESS=225 Park Ave.\, Portland\, 
 Maine\, USA;X-APPLE-RADIUS=72;X-TITLE=Troubh Ice Arena:43.6565;-70.27626
END:VEVENT
END:VCALENDAR